BEGIN:VCALENDAR
VERSION:2.0
PRODID:-//Engage Treatment Program, Inc - ECPv6.15.20//NONSGML v1.0//EN
CALSCALE:GREGORIAN
METHOD:PUBLISH
X-WR-CALNAME:Engage Treatment Program, Inc
X-ORIGINAL-URL:https://engagetherapy.com
X-WR-CALDESC:Events for Engage Treatment Program, Inc
REFRESH-INTERVAL;VALUE=DURATION:PT1H
X-Robots-Tag:noindex
X-PUBLISHED-TTL:PT1H
BEGIN:VTIMEZONE
TZID:UTC
BEGIN:STANDARD
TZOFFSETFROM:+0000
TZOFFSETTO:+0000
TZNAME:UTC
DTSTART:20210101T000000
END:STANDARD
END:VTIMEZONE
BEGIN:VEVENT
DTSTART;TZID=UTC:20221022T100000
DTEND;TZID=UTC:20221022T100000
DTSTAMP:20260422T023633
CREATED:20221019T224913Z
LAST-MODIFIED:20260216T141540Z
UID:10000001-1666432800-1666432800@engagetherapy.com
SUMMARY:American Foundation for Suicide Prevention’s “Out of the Darkness” LA County / Santa Monica Walk
DESCRIPTION:Walk Location: Third Street Promenade\nWalk Start Time: 10:00am PST\nThe Out of the Darkness Community Walk is a journey of remembrance\, hope\, and support. It unites our communities and provides an opportunity to acknowledge the ways in which suicide and mental health conditions have affected our lives and the lives of those we love and care about.\nIf you’re looking for support and/or resources\, please visit www.afsp.org/get-help and www.afsp.org/resources. \nFor more information\, please contact:\nContact Name: Bridget McCarthy\nContact Phone: (310) 597-0115\nContact Email: smwalkchair1@gmail.com\nMedia for graphics
URL:https://engagetherapy.com/event/american-foundation-for-suicide-preventions-out-of-the-darkness-la-county-santa-monica-walk/
LOCATION:Third Street Promenade
ORGANIZER;CN="American Foundation for Suicide Prevention":MAILTO:smwalkchair1@gmail.com
END:VEVENT
END:VCALENDAR